BEGIN:VCALENDAR
VERSION:2.0
PRODID:-//Moreton Say Parish Council//Meeting Calendar//EN
CALSCALE:GREGORIAN
METHOD:PUBLISH
BEGIN:VEVENT
UID:70536-20211014@moretonsay-pc.gov.uk
DTSTAMP:20260421T083054Z
DTSTART;VALUE=DATE:20211014
DTEND;VALUE=DATE:20211015
SUMMARY:Extraordinary Parish Council Meeting &#8211\\; 14th October 2021
DESCRIPTION:Extraordinary Parish Council Meeting\nView details: https://moretonsay-pc.gov.uk/meetings/parish-council-meeting-14th-october-2021/
URL:https://moretonsay-pc.gov.uk/meetings/parish-council-meeting-14th-october-2021/
END:VEVENT
END:VCALENDAR
