BEGIN:VCALENDAR
VERSION:2.0
PRODID:-//Moreton Say Parish Council//Meeting Calendar//EN
CALSCALE:GREGORIAN
METHOD:PUBLISH
BEGIN:VEVENT
UID:70709-20231123@moretonsay-pc.gov.uk
DTSTAMP:20260424T082014Z
DTSTART;VALUE=DATE:20231123
DTEND;VALUE=DATE:20231124
SUMMARY:Parish Council Meeting &#8211\\; 23rd November 2023
DESCRIPTION:Full Council Meeting\nView details: https://moretonsay-pc.gov.uk/meetings/parish-council-meeting-23rd-november-2023/
URL:https://moretonsay-pc.gov.uk/meetings/parish-council-meeting-23rd-november-2023/
END:VEVENT
END:VCALENDAR
